Workbook

Sheet Instructions
B1: Instructions:
B3: ENTER DATA 1 Sheet
B4: The "Enter Data 1" Sheet is where you enter all of your data from SBT. Your data are graphed automatically as long as you follow the instructions typed for you on the first row of that sheet.
B5: The first column defines the condition you are running (which data sheet are you using). You can select your condition by using the dropdown option.
B6: The drop down menu provides you with the different selections. If you are on sFCR data sheet, then you will select sFCR for all your trials until that skill is mastered.
B7: If you are on the CAB 5 data sheet, then you will select CAB 5 for all trials run during that condition (even if the specific trial is a cFCR).
B8: Input data from the 'SR' boxes on the data sheet. Each 'SR' scoring opportunity refers to the reinforcement interval after the trial to its left on the data sheet. Input 'HRE' if the 'HRE' item on the data sheet is circled (it is circled if the individual returns to HRE within 10 seconds of the return to reinforcement). Input R1, R2, or R3 if these occurred at any point during the SR interval.
B9: There are two columns designated for each skill to track our prompted and unprompted responses. For example, in sFCR, you would enter 3 in the column Prompted sFCR if you had to prompt the response, or 3 in the unprompted sFCR column if the child independently engaged in that response. Prompted is color coded as Yellow, and Unprompted is color coded as Green
B10: Go to "Enter Data 1" to see an example of how to enter the data you collect from SBT.
B12: GRAPHS
B13: Sheets Labeled Graph are where your data is graphed.
B14: Graph to 150 shows you the first 150 trials, Graphs to 300 shows you trials #150-#300 and so on.
... B21: For the FCRs, TRs, and CABs -- it provides you with the percentage of independent responses in each condition respectively.

Sheet Enter Data 1
A1: Enter the Condition (data sheet) you are on | D1: Enter -4 for yes, blank for no | E1: Enter -3 for yes, blank for no | F1: Enter -2 for yes, blank for no | G1: Enter -1 for yes, blank for no | H1: Enter 1 for yes, blank for no | I1: Enter 2 for yes, blank for no | J1: Enter 3 for yes, blank for no | K1: Enter 4 for yes, blank for no | L1: Enter 4 for yes, blank for no | M1: Enter 5 for yes, blank for no | N1: Enter 5 for yes, blank for no | O1: Enter 6 for yes, blank for no | P1: Enter 6 for yes, blank for no | Q1: Enter 7 for yes, blank for no | R1: Enter 7 for yes, blank for no | S1: Enter 8 for yes, blank for no | T1: Enter 8 for yes, blank for no | U1: Enter 9 for yes, blank for no | V1: Enter 9 for yes, blank for no | W1: Enter 10 for yes, blank for no | X1: Enter 10 for yes, blank for no | Y1: Enter 11 for yes, blank for no | Z1: Enter 11 for yes, blank for no | AA1: Enter 12 for yes, blank for no | AB1: Enter 12 for yes, blank for no
A2: Tx Condition | B2: Date | C2: Trial | D2: R1 in SR | E2: R2 in SR | F2: R3 in SR | G2: HRE (within 10 sec after EO presentation?) | H2: [r3] Occurred? (R3) | I2: Non-Dangerous PB Occurred? | J2: Dangerous PB Occurred? | K2: sFCR Occurred Incorrect? | L2: sFCR Occurred Correct? | M2: cFCR Occurred Incorrect? | N2: cFCR Occurred Correct? | O2: TR Occurred Incorrect? | P2: TR Occurred Correct? | Q2: CAB 1 Occurred Incorrect? | R2: CAB 1 Occurred Correct? | S2: CAB 2 Occurred Incorrect? | T2: CAB 2 Occurred Correct? | U2: CAB 3 Occurred Incorrect? | V2: CAB 3 Occurred Correct? | W2: CAB 4 Occurred Incorrect? | X2: CAB 4 Occurred Correct? | Y2: CAB 5 Occurred Incorrect? | Z2: CAB 5 Occurred Correct? | AA2: CAB 6 Occurred Incorrect? | AB2: CAB 6 Occurred Correct? | AC2: Phase Lines
C3: 0 | AD3: Leave this line blank
C4: 1 | AC4: {=_xlfn.IFS(A4="FA", 17, A4="SFCR", 0, A4="CFCR", 17, A4="TR", 0, A4="CAB1",17,A4="CAB2",0,A4="CAB3",17,A4="CAB4",0,A4="CAB5S",17,A4="CAB5M",0,A4="CAB5L",17,A4="CAB6",0)} -> #N/A
C5: 2 | AC5: {=_xlfn.IFS(A5="FA", 17, A5="SFCR", 0, A5="CFCR", 17, A5="TR", 0, A5="CAB1",17,A5="CAB2",0,A5="CAB3",17,A5="CAB4",0,A5="CAB5S",17,A5="CAB5M",0,A5="CAB5L",17,A5="CAB6",0)} -> #N/A
C6: 3 | AC6: {=_xlfn.IFS(A6="FA", 17, A6="SFCR", 0, A6="CFCR", 17, A6="TR", 0, A6="CAB1",17,A6="CAB2",0,A6="CAB3",17,A6="CAB4",0,A6="CAB5S",17,A6="CAB5M",0,A6="CAB5L",17,A6="CAB6",0)} -> #N/A
C7: 4 | AC7: {=_xlfn.IFS(A7="FA", 17, A7="SFCR", 0, A7="CFCR", 17, A7="TR", 0, A7="CAB1",17,A7="CAB2",0,A7="CAB3",17,A7="CAB4",0,A7="CAB5S",17,A7="CAB5M",0,A7="CAB5L",17,A7="CAB6",0)} -> #N/A
C8: 5 | AC8: {=_xlfn.IFS(A8="FA", 17, A8="SFCR", 0, A8="CFCR", 17, A8="TR", 0, A8="CAB1",17,A8="CAB2",0,A8="CAB3",17,A8="CAB4",0,A8="CAB5S",17,A8="CAB5M",0,A8="CAB5L",17,A8="CAB6",0)} -> #N/A
C9: 6 | AC9: {=_xlfn.IFS(A9="FA", 17, A9="SFCR", 0, A9="CFCR", 17, A9="TR", 0, A9="CAB1",17,A9="CAB2",0,A9="CAB3",17,A9="CAB4",0,A9="CAB5S",17,A9="CAB5M",0,A9="CAB5L",17,A9="CAB6",0)} -> #N/A
C10: 7 | AC10: {=_xlfn.IFS(A10="FA", 17, A10="SFCR", 0, A10="CFCR", 17, A10="TR", 0, A10="CAB1",17,A10="CAB2",0,A10="CAB3",17,A10="CAB4",0,A10="CAB5S",17,A10="CAB5M",0,A10="CAB5L",17,A10="CAB6",0)} -> #N/A
C11: 8 | AC11: {=_xlfn.IFS(A11="FA", 17, A11="SFCR", 0, A11="CFCR", 17, A11="TR", 0, A11="CAB1",17,A11="CAB2",0,A11="CAB3",17,A11="CAB4",0,A11="CAB5S",17,A11="CAB5M",0,A11="CAB5L",17,A11="CAB6",0)} -> #N/A
C12: 9 | AC12: {=_xlfn.IFS(A12="FA", 17, A12="SFCR", 0, A12="CFCR", 17, A12="TR", 0, A12="CAB1",17,A12="CAB2",0,A12="CAB3",17,A12="CAB4",0,A12="CAB5S",17,A12="CAB5M",0,A12="CAB5L",17,A12="CAB6",0)} -> #N/A
C13: 10 | AC13: {=_xlfn.IFS(A13="FA", 17, A13="SFCR", 0, A13="CFCR", 17, A13="TR", 0, A13="CAB1",17,A13="CAB2",0,A13="CAB3",17,A13="CAB4",0,A13="CAB5S",17,A13="CAB5M",0,A13="CAB5L",17,A13="CAB6",0)} -> #N/A
C14: 11 | AC14: {=_xlfn.IFS(A14="FA", 17, A14="SFCR", 0, A14="CFCR", 17, A14="TR", 0, A14="CAB1",17,A14="CAB2",0,A14="CAB3",17,A14="CAB4",0,A14="CAB5S",17,A14="CAB5M",0,A14="CAB5L",17,A14="CAB6",0)} -> #N/A
C15: 12 | AC15: {=_xlfn.IFS(A15="FA", 17, A15="SFCR", 0, A15="CFCR", 17, A15="TR", 0, A15="CAB1",17,A15="CAB2",0,A15="CAB3",17,A15="CAB4",0,A15="CAB5S",17,A15="CAB5M",0,A15="CAB5L",17,A15="CAB6",0)} -> #N/A
... C2103: 2100 | AC2103: {=_xlfn.IFS(A2103="FA", 17, A2103="SFCR", 0, A2103="CFCR", 17, A2103="TR", 0, A2103="CAB1",17,A2103="CAB2",0,A2103="CAB3",17,A2103="CAB4",0,A2103="CAB5S",17,A2103="CAB5M",0,A2103="CAB5L",17,A2103="CAB6",0)} -> #N/A
D2106: R1 in SR | E2106: R2 in SR | F2106: R3 in SR | G2106: HRE | H2106: R3 in EO | I2106: R2 in EO | J2106: R1 in EO | K2106: sFCR Prompted | L2106: sFCR unprompted | M2106: cFCR Prompted | N2106: cFCR unprompted | O2106: TR Prompted | P2106: TRunprompted | Q2106: CAB1 Prompted | R2106: CAB1 unprompted | S2106: CAB2 Prompted | T2106: CAB2 unprompted | U2106: CAB3 Prompted | V2106: CAB3 unprompted | W2106: CAB4 Prompted | X2106: CAB4 unprompted | Y2106: CAB5 Prompted | Z2106: CAB5 unprompted | AA2106: CAB6 Prompted | AB2106: CAB6 unprompted | AC2106: Number of Trials
C2107: FA | D2107: =COUNTIFS($A$4:$A$2103,"FA",$D$4:$D$2103,"-4") -> 0 | E2107: =COUNTIFS($A$4:$A$2103,"FA",$E$4:$E$2103,"-3") -> 0 | F2107: =COUNTIFS($A$4:$A$2103,"FA",$F$4:$F$2103,"-2") -> 0 | G2107: =COUNTIFS($A$4:$A$2103,"FA",$G$4:$G$2103,"-1") -> 0 | H2107: =COUNTIFS($A$4:$A$2103,"FA",$H$4:$H$2103,"1") -> 0 | I2107: =COUNTIFS($A$4:$A$2103,"FA",$I$4:$I$2103,"2") -> 0 | J2107: =COUNTIFS($A$4:$A$2103,"FA",$J$4:$J$2103,"3") -> 0 | K2107: =COUNTIFS($A$4:$A$2103,"FA",$K$4:$K$2103,"4") -> 0 | L2107: =COUNTIFS($A$4:$A$2103,"FA",L$4:L$2103,"4") -> 0 | M2107: =COUNTIFS($A$4:$A$2103,"FA",M$4:M$2103,"5") -> 0 | N2107: =COUNTIFS($A$4:$A$2103,"FA",N$4:N$2103,"5") -> 0 | O2107: =COUNTIFS($A$4:$A$2103,"FA",O$4:O$2103,"6") -> 0 | P2107: =COUNTIFS($A$4:$A$2103,"FA",P$4:P$2103,"6") -> 0 | Q2107: =COUNTIFS($A$4:$A$2103,"FA",Q$4:Q$2103,"7") -> 0 | R2107: =COUNTIFS($A$4:$A$2103,"FA",R$4:R$2103,"7") -> 0 | S2107: =COUNTIFS($A$4:$A$2103,"FA",S$4:S$2103,"8") -> 0 | T2107: =COUNTIFS($A$4:$A$2103,"FA",T$4:T$2103,"8") -> 0 | U2107: =COUNTIFS($A$4:$A$2103,"FA",U$4:U$2103,"9") -> 0 | V2107: =COUNTIFS($A$4:$A$2103,"FA",V$4:V$2103,"9") -> 0 | W2107: =COUNTIFS($A$4:$A$2103,"FA",W$4:W$2103,"10") -> 0 | X2107: =COUNTIFS($A$4:$A$2103,"FA",X$4:X$2103,"10") -> 0 | Y2107: =COUNTIFS($A$4:$A$2103,"FA",Y$4:Y$2103,"11") -> 0 | Z2107: =COUNTIFS($A$4:$A$2103,"FA",Z$4:Z$2103,"11") -> 0 | AA2107: =COUNTIFS($A$4:$A$2103,"FA",AA$4:AA$2103,"12") -> 0 | AB2107: =COUNTIFS($A$4:$A$2103,"FA",AB$4:AB$2103,"12") -> 0 | AC2107: =COUNTIF($A$4:$A$2103, "FA") -> 0
C2108: sFCR | D2108: =COUNTIFS($A$4:$A$2103,"sFCR",$D$4:$D$2103,"-4") -> 0 | E2108: =COUNTIFS($A$4:$A$2103,"sFCR",$E$4:$E$2103,"-3") -> 0 | F2108: =COUNTIFS($A$4:$A$2103,"sFCR",$F$4:$F$2103,"-2") -> 0 | G2108: =COUNTIFS($A$4:$A$2103,"sFCR",$G$4:$G$2103,"-1") -> 0 | H2108: =COUNTIFS($A$4:$A$2103,"sFCR",$H$4:$H$2103,"1") -> 0 | I2108: =COUNTIFS($A$4:$A$2103,"SFCR",$I$4:$I$2103,"2") -> 0 | J2108: =COUNTIFS($A$4:$A$2103,"sFCR",$J$4:$J$2103,"3") -> 0 | K2108: =COUNTIFS($A$4:$A$2103,"sFCR",$K$4:$K$2103,"4") -> 0 | L2108: =COUNTIFS($A$4:$A$2103,"SFCR",L$4:L$2103,"4") -> 0 | M2108: =COUNTIFS($A$4:$A$2103,"SFCR",M$4:M$2103,"5") -> 0 | N2108: =COUNTIFS($A$4:$A$2103,"SFCR",N$4:N$2103,"5") -> 0 | O2108: =COUNTIFS($A$4:$A$2103,"SFCR",O$4:O$2103,"6") -> 0 | P2108: =COUNTIFS($A$4:$A$2103,"SFCR",P$4:P$2103,"6") -> 0 | Q2108: =COUNTIFS($A$4:$A$2103,"SFCR",Q$4:Q$2103,"7") -> 0 | R2108: =COUNTIFS($A$4:$A$2103,"SFCR",R$4:R$2103,"7") -> 0 | S2108: =COUNTIFS($A$4:$A$2103,"SFCR",S$4:S$2103,"8") -> 0 | T2108: =COUNTIFS($A$4:$A$2103,"SFCR",T$4:T$2103,"8") -> 0 | U2108: =COUNTIFS($A$4:$A$2103,"SFCR",U$4:U$2103,"9") -> 0 | V2108: =COUNTIFS($A$4:$A$2103,"SFCR",V$4:V$2103,"9") -> 0 | W2108: =COUNTIFS($A$4:$A$2103,"SFCR",W$4:W$2103,"10") -> 0 | X2108: =COUNTIFS($A$4:$A$2103,"SFCR",X$4:X$2103,"10") -> 0 | Y2108: =COUNTIFS($A$4:$A$2103,"SFCR",Y$4:Y$2103,"11") -> 0 | Z2108: =COUNTIFS($A$4:$A$2103,"SFCR",Z$4:Z$2103,"11") -> 0 | AA2108: =COUNTIFS($A$4:$A$2103,"SFCR",AA$4:AA$2103,"12") -> 0 | AB2108: =COUNTIFS($A$4:$A$2103,"SFCR",AB$4:AB$2103,"12") -> 0 | AC2108: =COUNTIF($A$4:$A$2103, "sFCR") -> 0
C2109: cFCR | D2109: =COUNTIFS($A$4:$A$2103,"cFCR",$D$4:$D$2103,"-4") -> 0 | E2109: =COUNTIFS($A$4:$A$2103,"cFCR",$E$4:$E$2103,"-3") -> 0 | F2109: =COUNTIFS($A$4:$A$2103,"cFCR",$F$4:$F$2103,"-2") -> 0 | G2109: =COUNTIFS($A$4:$A$2103,"cFCR",$G$4:$G$2103,"-1") -> 0 | H2109: =COUNTIFS($A$4:$A$2103,"cFCR",$H$4:$H$2103,"1") -> 0 | I2109: =COUNTIFS($A$4:$A$2103,"CFCR",$I$4:$I$2103,"2") -> 0 | J2109: =COUNTIFS($A$4:$A$2103,"cFCR",$J$4:$J$2103,"3") -> 0 | K2109: =COUNTIFS($A$4:$A$2103,"cFCR",$K$4:$K$2103,"4") -> 0 | L2109: =COUNTIFS($A$4:$A$2103,"CFCR",L$4:L$2103,"4") -> 0 | M2109: =COUNTIFS($A$4:$A$2103,"CFCR",M$4:M$2103,"5") -> 0 | N2109: =COUNTIFS($A$4:$A$2103,"CFCR",N$4:N$2103,"5") -> 0 | O2109: =COUNTIFS($A$4:$A$2103,"CFCR",O$4:O$2103,"6") -> 0 | P2109: =COUNTIFS($A$4:$A$2103,"CFCR",P$4:P$2103,"6") -> 0 | Q2109: =COUNTIFS($A$4:$A$2103,"CFCR",Q$4:Q$2103,"7") -> 0 | R2109: =COUNTIFS($A$4:$A$2103,"CFCR",R$4:R$2103,"7") -> 0 | S2109: =COUNTIFS($A$4:$A$2103,"CFCR",S$4:S$2103,"8") -> 0 | T2109: =COUNTIFS($A$4:$A$2103,"CFCR",T$4:T$2103,"8") -> 0 | U2109: =COUNTIFS($A$4:$A$2103,"CFCR",U$4:U$2103,"9") -> 0 | V2109: =COUNTIFS($A$4:$A$2103,"CFCR",V$4:V$2103,"9") -> 0 | W2109: =COUNTIFS($A$4:$A$2103,"CFCR",W$4:W$2103,"10") -> 0 | X2109: =COUNTIFS($A$4:$A$2103,"CFCR",X$4:X$2103,"10") -> 0 | Y2109: =COUNTIFS($A$4:$A$2103,"CFCR",Y$4:Y$2103,"11") -> 0 | Z2109: =COUNTIFS($A$4:$A$2103,"CFCR",Z$4:Z$2103,"11") -> 0 | AA2109: =COUNTIFS($A$4:$A$2103,"CFCR",AA$4:AA$2103,"12") -> 0 | AB2109: =COUNTIFS($A$4:$A$2103,"CFCR",AB$4:AB$2103,"12") -> 0 | AC2109: =COUNTIF($A$4:$A$2103, "cFCR") -> 0
C2110: TR | D2110: =COUNTIFS($A$4:$A$2103,"TR",$D$4:$D$2103,"-4") -> 0 | E2110: =COUNTIFS($A$4:$A$2103,"TR",$E$4:$E$2103,"-3") -> 0 | F2110: =COUNTIFS($A$4:$A$2103,"TR",$F$4:$F$2103,"-2") -> 0 | G2110: =COUNTIFS($A$4:$A$2103,"TR",$G$4:$G$2103,"-1") -> 0 | H2110: =COUNTIFS($A$4:$A$2103,"TR",$H$4:$H$2103,"1") -> 0 | I2110: =COUNTIFS($A$4:$A$2103,"TR",$I$4:$I$2103,"2") -> 0 | J2110: =COUNTIFS($A$4:$A$2103,"TR",$J$4:$J$2103,"3") -> 0 | K2110: =COUNTIFS($A$4:$A$2103,"TR",$K$4:$K$2103,"4") -> 0 | L2110: =COUNTIFS($A$4:$A$2103,"TR",L$4:L$2103,"4") -> 0 | M2110: =COUNTIFS($A$4:$A$2103,"TR",M$4:M$2103,"5") -> 0 | N2110: =COUNTIFS($A$4:$A$2103,"TR",N$4:N$2103,"5") -> 0 | O2110: =COUNTIFS($A$4:$A$2103,"TR",O$4:O$2103,"6") -> 0 | P2110: =COUNTIFS($A$4:$A$2103,"TR",P$4:P$2103,"6") -> 0 | Q2110: =COUNTIFS($A$4:$A$2103,"TR",Q$4:Q$2103,"7") -> 0 | R2110: =COUNTIFS($A$4:$A$2103,"TR",R$4:R$2103,"7") -> 0 | S2110: =COUNTIFS($A$4:$A$2103,"TR",S$4:S$2103,"8") -> 0 | T2110: =COUNTIFS($A$4:$A$2103,"TR",T$4:T$2103,"8") -> 0 | U2110: =COUNTIFS($A$4:$A$2103,"TR",U$4:U$2103,"9") -> 0 | V2110: =COUNTIFS($A$4:$A$2103,"TR",V$4:V$2103,"9") -> 0 | W2110: =COUNTIFS($A$4:$A$2103,"TR",W$4:W$2103,"10") -> 0 | X2110: =COUNTIFS($A$4:$A$2103,"TR",X$4:X$2103,"10") -> 0 | Y2110: =COUNTIFS($A$4:$A$2103,"TR",Y$4:Y$2103,"11") -> 0 | Z2110: =COUNTIFS($A$4:$A$2103,"TR",Z$4:Z$2103,"11") -> 0 | AA2110: =COUNTIFS($A$4:$A$2103,"TR",AA$4:AA$2103,"12") -> 0 | AB2110: =COUNTIFS($A$4:$A$2103,"TR",AB$4:AB$2103,"12") -> 0 | AC2110: =COUNTIF($A$4:$A$2103, "TR") -> 0
C2111: CAB1 | D2111: =COUNTIFS($A$4:$A$2103,"CAB1",$D$4:$D$2103,"-4") -> 0 | E2111: =COUNTIFS($A$4:$A$2103,"CAB1",$E$4:$E$2103,"-3") -> 0 | F2111: =COUNTIFS($A$4:$A$2103,"CAB1",$F$4:$F$2103,"-2") -> 0 | G2111: =COUNTIFS($A$4:$A$2103,"CAB1",$G$4:$G$2103,"-1") -> 0 | H2111: =COUNTIFS($A$4:$A$2103,"CAB1",$H$4:$H$2103,"1") -> 0 | I2111: =COUNTIFS($A$4:$A$2103,"CAB1",$I$4:$I$2103,"2") -> 0 | J2111: =COUNTIFS($A$4:$A$2103,"CAB1",$J$4:$J$2103,"3") -> 0 | K2111: =COUNTIFS($A$4:$A$2103,"CAB1",$K$4:$K$2103,"4") -> 0 | L2111: =COUNTIFS($A$4:$A$2103,"CAB1",L$4:L$2103,"4") -> 0 | M2111: =COUNTIFS($A$4:$A$2103,"CAB1",M$4:M$2103,"5") -> 0 | N2111: =COUNTIFS($A$4:$A$2103,"CAB1",N$4:N$2103,"5") -> 0 | O2111: =COUNTIFS($A$4:$A$2103,"CAB1",O$4:O$2103,"6") -> 0 | P2111: =COUNTIFS($A$4:$A$2103,"CAB1",P$4:P$2103,"6") -> 0 | Q2111: =COUNTIFS($A$4:$A$2103,"CAB1",Q$4:Q$2103,"7") -> 0 | R2111: =COUNTIFS($A$4:$A$2103,"CAB1",R$4:R$2103,"7") -> 0 | S2111: =COUNTIFS($A$4:$A$2103,"CAB1",S$4:S$2103,"8") -> 0 | T2111: =COUNTIFS($A$4:$A$2103,"CAB1",T$4:T$2103,"8") -> 0 | U2111: =COUNTIFS($A$4:$A$2103,"CAB1",U$4:U$2103,"9") -> 0 | V2111: =COUNTIFS($A$4:$A$2103,"CAB1",V$4:V$2103,"9") -> 0 | W2111: =COUNTIFS($A$4:$A$2103,"CAB1",W$4:W$2103,"10") -> 0 | X2111: =COUNTIFS($A$4:$A$2103,"CAB1",X$4:X$2103,"10") -> 0 | Y2111: =COUNTIFS($A$4:$A$2103,"CAB1",Y$4:Y$2103,"11") -> 0 | Z2111: =COUNTIFS($A$4:$A$2103,"CAB1",Z$4:Z$2103,"11") -> 0 | AA2111: =COUNTIFS($A$4:$A$2103,"CAB1",AA$4:AA$2103,"12") -> 0 | AB2111: =COUNTIFS($A$4:$A$2103,"CAB1",AB$4:AB$2103,"12") -> 0 | AC2111: =COUNTIF($A$4:$A$2103, "CAB1") -> 0
C2112: CAB2 | D2112: =COUNTIFS($A$4:$A$2103,"CAB2",$D$4:$D$2103,"-4") -> 0 | E2112: =COUNTIFS($A$4:$A$2103,"CAB2",$E$4:$E$2103,"-3") -> 0 | F2112: =COUNTIFS($A$4:$A$2103,"CAB2",$F$4:$F$2103,"-2") -> 0 | G2112: =COUNTIFS($A$4:$A$2103,"CAB2",$G$4:$G$2103,"-1") -> 0 | H2112: =COUNTIFS($A$4:$A$2103,"CAB2",$H$4:$H$2103,"1") -> 0 | I2112: =COUNTIFS($A$4:$A$2103,"CAB2",$I$4:$I$2103,"2") -> 0 | J2112: =COUNTIFS($A$4:$A$2103,"CAB2",$J$4:$J$2103,"3") -> 0 | K2112: =COUNTIFS($A$4:$A$2103,"CAB2",$K$4:$K$2103,"4") -> 0 | L2112: =COUNTIFS($A$4:$A$2103,"CAB2",L$4:L$2103,"4") -> 0 | M2112: =COUNTIFS($A$4:$A$2103,"CAB2",M$4:M$2103,"5") -> 0 | N2112: =COUNTIFS($A$4:$A$2103,"CAB2",N$4:N$2103,"5") -> 0 | O2112: =COUNTIFS($A$4:$A$2103,"CAB2",O$4:O$2103,"6") -> 0 | P2112: =COUNTIFS($A$4:$A$2103,"CAB2",P$4:P$2103,"6") -> 0 | Q2112: =COUNTIFS($A$4:$A$2103,"CAB2",Q$4:Q$2103,"7") -> 0 | R2112: =COUNTIFS($A$4:$A$2103,"CAB2",R$4:R$2103,"7") -> 0 | S2112: =COUNTIFS($A$4:$A$2103,"CAB2",S$4:S$2103,"8") -> 0 | T2112: =COUNTIFS($A$4:$A$2103,"CAB2",T$4:T$2103,"8") -> 0 | U2112: =COUNTIFS($A$4:$A$2103,"CAB2",U$4:U$2103,"9") -> 0 | V2112: =COUNTIFS($A$4:$A$2103,"CAB2",V$4:V$2103,"9") -> 0 | W2112: =COUNTIFS($A$4:$A$2103,"CAB2",W$4:W$2103,"10") -> 0 | X2112: =COUNTIFS($A$4:$A$2103,"CAB2",X$4:X$2103,"10") -> 0 | Y2112: =COUNTIFS($A$4:$A$2103,"CAB2",Y$4:Y$2103,"11") -> 0 | Z2112: =COUNTIFS($A$4:$A$2103,"CAB2",Z$4:Z$2103,"11") -> 0 | AA2112: =COUNTIFS($A$4:$A$2103,"CAB2",AA$4:AA$2103,"12") -> 0 | AB2112: =COUNTIFS($A$4:$A$2103,"CAB2",AB$4:AB$2103,"12") -> 0 | AC2112: =COUNTIF($A$4:$A$2103, "CAB2") -> 0
C2113: CAB3 | D2113: =COUNTIFS($A$4:$A$2103,"CAB3",$D$4:$D$2103,"-4") -> 0 | E2113: =COUNTIFS($A$4:$A$2103,"CAB3",$E$4:$E$2103,"-3") -> 0 | F2113: =COUNTIFS($A$4:$A$2103,"CAB3",$F$4:$F$2103,"-2") -> 0 | G2113: =COUNTIFS($A$4:$A$2103,"CAB3",$G$4:$G$2103,"-1") -> 0 | H2113: =COUNTIFS($A$4:$A$2103,"CAB3",$H$4:$H$2103,"1") -> 0 | I2113: =COUNTIFS($A$4:$A$2103,"CAB3",$I$4:$I$2103,"2") -> 0 | J2113: =COUNTIFS($A$4:$A$2103,"CAB3",$J$4:$J$2103,"3") -> 0 | K2113: =COUNTIFS($A$4:$A$2103,"CAB3",$K$4:$K$2103,"4") -> 0 | L2113: =COUNTIFS($A$4:$A$2103,"CAB3",L$4:L$2103,"4") -> 0 | M2113: =COUNTIFS($A$4:$A$2103,"CAB3",M$4:M$2103,"5") -> 0 | N2113: =COUNTIFS($A$4:$A$2103,"CAB3",N$4:N$2103,"5") -> 0 | O2113: =COUNTIFS($A$4:$A$2103,"CAB3",O$4:O$2103,"6") -> 0 | P2113: =COUNTIFS($A$4:$A$2103,"CAB3",P$4:P$2103,"6") -> 0 | Q2113: =COUNTIFS($A$4:$A$2103,"CAB3",Q$4:Q$2103,"7") -> 0 | R2113: =COUNTIFS($A$4:$A$2103,"CAB3",R$4:R$2103,"7") -> 0 | S2113: =COUNTIFS($A$4:$A$2103,"CAB3",S$4:S$2103,"8") -> 0 | T2113: =COUNTIFS($A$4:$A$2103,"CAB3",T$4:T$2103,"8") -> 0 | U2113: =COUNTIFS($A$4:$A$2103,"CAB3",U$4:U$2103,"9") -> 0 | V2113: =COUNTIFS($A$4:$A$2103,"CAB3",V$4:V$2103,"9") -> 0 | W2113: =COUNTIFS($A$4:$A$2103,"CAB3",W$4:W$2103,"10") -> 0 | X2113: =COUNTIFS($A$4:$A$2103,"CAB3",X$4:X$2103,"10") -> 0 | Y2113: =COUNTIFS($A$4:$A$2103,"CAB3",Y$4:Y$2103,"11") -> 0 | Z2113: =COUNTIFS($A$4:$A$2103,"CAB3",Z$4:Z$2103,"11") -> 0 | AA2113: =COUNTIFS($A$4:$A$2103,"CAB3",AA$4:AA$2103,"12") -> 0 | AB2113: =COUNTIFS($A$4:$A$2103,"CAB3",AB$4:AB$2103,"12") -> 0 | AC2113: =COUNTIF($A$4:$A$2103, "CAB3") -> 0
C2114: CAB4 | D2114: =COUNTIFS($A$4:$A$2103,"CAB4",$D$4:$D$2103,"-4") -> 0 | E2114: =COUNTIFS($A$4:$A$2103,"CAB4",$E$4:$E$2103,"-3") -> 0 | F2114: =COUNTIFS($A$4:$A$2103,"CAB4",$F$4:$F$2103,"-2") -> 0 | G2114: =COUNTIFS($A$4:$A$2103,"CAB4",$G$4:$G$2103,"-1") -> 0 | H2114: =COUNTIFS($A$4:$A$2103,"CAB4",$H$4:$H$2103,"1") -> 0 | I2114: =COUNTIFS($A$4:$A$2103,"CAB4",$I$4:$I$2103,"2") -> 0 | J2114: =COUNTIFS($A$4:$A$2103,"CAB4",$J$4:$J$2103,"3") -> 0 | K2114: =COUNTIFS($A$4:$A$2103,"CAB4",$K$4:$K$2103,"4") -> 0 | L2114: =COUNTIFS($A$4:$A$2103,"CAB4",L$4:L$2103,"4") -> 0 | M2114: =COUNTIFS($A$4:$A$2103,"CAB4",M$4:M$2103,"5") -> 0 | N2114: =COUNTIFS($A$4:$A$2103,"CAB4",N$4:N$2103,"5") -> 0 | O2114: =COUNTIFS($A$4:$A$2103,"CAB4",O$4:O$2103,"6") -> 0 | P2114: =COUNTIFS($A$4:$A$2103,"CAB4",P$4:P$2103,"6") -> 0 | Q2114: =COUNTIFS($A$4:$A$2103,"CAB4",Q$4:Q$2103,"7") -> 0 | R2114: =COUNTIFS($A$4:$A$2103,"CAB4",R$4:R$2103,"7") -> 0 | S2114: =COUNTIFS($A$4:$A$2103,"CAB4",S$4:S$2103,"8") -> 0 | T2114: =COUNTIFS($A$4:$A$2103,"CAB4",T$4:T$2103,"8") -> 0 | U2114: =COUNTIFS($A$4:$A$2103,"CAB4",U$4:U$2103,"9") -> 0 | V2114: =COUNTIFS($A$4:$A$2103,"CAB4",V$4:V$2103,"9") -> 0 | W2114: =COUNTIFS($A$4:$A$2103,"CAB4",W$4:W$2103,"10") -> 0 | X2114: =COUNTIFS($A$4:$A$2103,"CAB4",X$4:X$2103,"10") -> 0 | Y2114: =COUNTIFS($A$4:$A$2103,"CAB4",Y$4:Y$2103,"11") -> 0 | Z2114: =COUNTIFS($A$4:$A$2103,"CAB4",Z$4:Z$2103,"11") -> 0 | AA2114: =COUNTIFS($A$4:$A$2103,"CAB4",AA$4:AA$2103,"12") -> 0 | AB2114: =COUNTIFS($A$4:$A$2103,"CAB4",AB$4:AB$2103,"12") -> 0 | AC2114: =COUNTIF($A$4:$A$2103, "CAB4") -> 0
C2115: CAB5s | D2115: =COUNTIFS($A$4:$A$2103,"CAB5s",$D$4:$D$2103,"-4") -> 0 | E2115: =COUNTIFS($A$4:$A$2103,"CAB5s",$E$4:$E$2103,"-3") -> 0 | F2115: =COUNTIFS($A$4:$A$2103,"CAB5s",$F$4:$F$2103,"-2") -> 0 | G2115: =COUNTIFS($A$4:$A$2103,"CAB5s",$G$4:$G$2103,"-1") -> 0 | H2115: =COUNTIFS($A$4:$A$2103,"CAB5s",$H$4:$H$2103,"1") -> 0 | I2115: =COUNTIFS($A$4:$A$2103,"CAB5s",$I$4:$I$2103,"2") -> 0 | J2115: =COUNTIFS($A$4:$A$2103,"CAB5s",$J$4:$J$2103,"3") -> 0 | K2115: =COUNTIFS($A$4:$A$2103,"CAB5s",$K$4:$K$2103,"4") -> 0 | L2115: =COUNTIFS($A$4:$A$2103,"CAB5s",L$4:L$2103,"4") -> 0 | M2115: =COUNTIFS($A$4:$A$2103,"CAB5s",M$4:M$2103,"5") -> 0 | N2115: =COUNTIFS($A$4:$A$2103,"CAB5s",N$4:N$2103,"5") -> 0 | O2115: =COUNTIFS($A$4:$A$2103,"CAB5s",O$4:O$2103,"6") -> 0 | P2115: =COUNTIFS($A$4:$A$2103,"CAB5s",P$4:P$2103,"6") -> 0 | Q2115: =COUNTIFS($A$4:$A$2103,"CAB5s",Q$4:Q$2103,"7") -> 0 | R2115: =COUNTIFS($A$4:$A$2103,"CAB5s",R$4:R$2103,"7") -> 0 | S2115: =COUNTIFS($A$4:$A$2103,"CAB5s",S$4:S$2103,"8") -> 0 | T2115: =COUNTIFS($A$4:$A$2103,"CAB5s",T$4:T$2103,"8") -> 0 | U2115: =COUNTIFS($A$4:$A$2103,"CAB5s",U$4:U$2103,"9") -> 0 | V2115: =COUNTIFS($A$4:$A$2103,"CAB5s",V$4:V$2103,"9") -> 0 | W2115: =COUNTIFS($A$4:$A$2103,"CAB5s",W$4:W$2103,"10") -> 0 | X2115: =COUNTIFS($A$4:$A$2103,"CAB5s",X$4:X$2103,"10") -> 0 | Y2115: =COUNTIFS($A$4:$A$2103,"CAB5s",Y$4:Y$2103,"11") -> 0 | Z2115: =COUNTIFS($A$4:$A$2103,"CAB5s",Z$4:Z$2103,"11") -> 0 | AA2115: =COUNTIFS($A$4:$A$2103,"CAB5s",AA$4:AA$2103,"12") -> 0 | AB2115: =COUNTIFS($A$4:$A$2103,"CAB5s",AB$4:AB$2103,"12") -> 0 | AC2115: =(COUNTIF($A$4:$A$2103,"CAB5s")) -> 0
C2116: CAB5m | D2116: =COUNTIFS($A$4:$A$2103,"CAB5m",$D$4:$D$2103,"-4") -> 0 | E2116: =COUNTIFS($A$4:$A$2103,"CAB5m",$E$4:$E$2103,"-3") -> 0 | F2116: =COUNTIFS($A$4:$A$2103,"CAB5m",$F$4:$F$2103,"-2") -> 0 | G2116: =COUNTIFS($A$4:$A$2103,"CAB5m",$G$4:$G$2103,"-1") -> 0 | H2116: =COUNTIFS($A$4:$A$2103,"CAB5m",$H$4:$H$2103,"1") -> 0 | I2116: =COUNTIFS($A$4:$A$2103,"CAB5m",$I$4:$I$2103,"2") -> 0 | J2116: =COUNTIFS($A$4:$A$2103,"CAB5m",$J$4:$J$2103,"3") -> 0 | K2116: =COUNTIFS($A$4:$A$2103,"CAB5m",$K$4:$K$2103,"4") -> 0 | L2116: =COUNTIFS($A$4:$A$2103,"CAB5m",L$4:L$2103,"4") -> 0 | M2116: =COUNTIFS($A$4:$A$2103,"CAB5m",M$4:M$2103,"5") -> 0 | N2116: =COUNTIFS($A$4:$A$2103,"CAB5m",N$4:N$2103,"5") -> 0 | O2116: =COUNTIFS($A$4:$A$2103,"CAB5m",O$4:O$2103,"6") -> 0 | P2116: =COUNTIFS($A$4:$A$2103,"CAB5m",P$4:P$2103,"6") -> 0 | Q2116: =COUNTIFS($A$4:$A$2103,"CAB5m",Q$4:Q$2103,"7") -> 0 | R2116: =COUNTIFS($A$4:$A$2103,"CAB5m",R$4:R$2103,"7") -> 0 | S2116: =COUNTIFS($A$4:$A$2103,"CAB5m",S$4:S$2103,"8") -> 0 | T2116: =COUNTIFS($A$4:$A$2103,"CAB5m",T$4:T$2103,"8") -> 0 | U2116: =COUNTIFS($A$4:$A$2103,"CAB5m",U$4:U$2103,"9") -> 0 | V2116: =COUNTIFS($A$4:$A$2103,"CAB5m",V$4:V$2103,"9") -> 0 | W2116: =COUNTIFS($A$4:$A$2103,"CAB5m",W$4:W$2103,"10") -> 0 | X2116: =COUNTIFS($A$4:$A$2103,"CAB5m",X$4:X$2103,"10") -> 0 | Y2116: =COUNTIFS($A$4:$A$2103,"CAB5m",Y$4:Y$2103,"11") -> 0 | Z2116: =COUNTIFS($A$4:$A$2103,"CAB5m",Z$4:Z$2103,"11") -> 0 | AA2116: =COUNTIFS($A$4:$A$2103,"CAB5m",AA$4:AA$2103,"12") -> 0 | AB2116: =COUNTIFS($A$4:$A$2103,"CAB5m",AB$4:AB$2103,"12") -> 0 | AC2116: =COUNTIF($A$4:$A$2103, "CAB5m") -> 0
C2117: CAB5l | D2117: =COUNTIFS($A$4:$A$2103,"CAB5l",$D$4:$D$2103,"-4") -> 0 | E2117: =COUNTIFS($A$4:$A$2103,"CAB5l",$E$4:$E$2103,"-3") -> 0 | F2117: =COUNTIFS($A$4:$A$2103,"CAB5l",$F$4:$F$2103,"-2") -> 0 | G2117: =COUNTIFS($A$4:$A$2103,"CAB5l",$G$4:$G$2103,"-1") -> 0 | H2117: =COUNTIFS($A$4:$A$2103,"CAB5l",$H$4:$H$2103,"1") -> 0 | I2117: =COUNTIFS($A$4:$A$2103,"CAB5l",$I$4:$I$2103,"2") -> 0 | J2117: =COUNTIFS($A$4:$A$2103,"CAB5l",$J$4:$J$2103,"3") -> 0 | K2117: =COUNTIFS($A$4:$A$2103,"CAB5l",$K$4:$K$2103,"4") -> 0 | L2117: =COUNTIFS($A$4:$A$2103,"CAB5l",L$4:L$2103,"4") -> 0 | M2117: =COUNTIFS($A$4:$A$2103,"CAB5l",M$4:M$2103,"5") -> 0 | N2117: =COUNTIFS($A$4:$A$2103,"CAB5l",N$4:N$2103,"5") -> 0 | O2117: =COUNTIFS($A$4:$A$2103,"CAB5l",O$4:O$2103,"6") -> 0 | P2117: =COUNTIFS($A$4:$A$2103,"CAB5l",P$4:P$2103,"6") -> 0 | Q2117: =COUNTIFS($A$4:$A$2103,"CAB5l",Q$4:Q$2103,"7") -> 0 | R2117: =COUNTIFS($A$4:$A$2103,"CAB5l",R$4:R$2103,"7") -> 0 | S2117: =COUNTIFS($A$4:$A$2103,"CAB5l",S$4:S$2103,"8") -> 0 | T2117: =COUNTIFS($A$4:$A$2103,"CAB5l",T$4:T$2103,"8") -> 0 | U2117: =COUNTIFS($A$4:$A$2103,"CAB5l",U$4:U$2103,"9") -> 0 | V2117: =COUNTIFS($A$4:$A$2103,"CAB5l",V$4:V$2103,"9") -> 0 | W2117: =COUNTIFS($A$4:$A$2103,"CAB5l",W$4:W$2103,"10") -> 0 | X2117: =COUNTIFS($A$4:$A$2103,"CAB5l",X$4:X$2103,"10") -> 0 | Y2117: =COUNTIFS($A$4:$A$2103,"CAB5l",Y$4:Y$2103,"11") -> 0 | Z2117: =COUNTIFS($A$4:$A$2103,"CAB5l",Z$4:Z$2103,"11") -> 0 | AA2117: =COUNTIFS($A$4:$A$2103,"CAB5l",AA$4:AA$2103,"12") -> 0 | AB2117: =COUNTIFS($A$4:$A$2103,"CAB5l",AB$4:AB$2103,"12") -> 0 | AC2117: =COUNTIF($A$4:$A$2103, "CAB5l") -> 0
C2118: CAB6 | D2118: =COUNTIFS($A$4:$A$2103,"CAB6",$D$4:$D$2103,"-4") -> 0 | E2118: =COUNTIFS($A$4:$A$2103,"CAB6",$E$4:$E$2103,"-3") -> 0 | F2118: =COUNTIFS($A$4:$A$2103,"CAB6",$F$4:$F$2103,"-2") -> 0 | G2118: =COUNTIFS($A$4:$A$2103,"CAB6",$G$4:$G$2103,"-1") -> 0 | H2118: =COUNTIFS($A$4:$A$2103,"CAB6",$H$4:$H$2103,"1") -> 0 | I2118: =COUNTIFS($A$4:$A$2103,"CAB6",$I$4:$I$2103,"2") -> 0 | J2118: =COUNTIFS($A$4:$A$2103,"CAB6",$J$4:$J$2103,"3") -> 0 | K2118: =COUNTIFS($A$4:$A$2103,"CAB6",$K$4:$K$2103,"4") -> 0 | L2118: =COUNTIFS($A$4:$A$2103,"CAB6",L$4:L$2103,"4") -> 0 | M2118: =COUNTIFS($A$4:$A$2103,"CAB6",M$4:M$2103,"5") -> 0 | N2118: =COUNTIFS($A$4:$A$2103,"CAB6",N$4:N$2103,"5") -> 0 | O2118: =COUNTIFS($A$4:$A$2103,"CAB6",O$4:O$2103,"6") -> 0 | P2118: =COUNTIFS($A$4:$A$2103,"CAB6",P$4:P$2103,"6") -> 0 | Q2118: =COUNTIFS($A$4:$A$2103,"CAB6",Q$4:Q$2103,"7") -> 0 | R2118: =COUNTIFS($A$4:$A$2103,"CAB6",R$4:R$2103,"7") -> 0 | S2118: =COUNTIFS($A$4:$A$2103,"CAB6",S$4:S$2103,"8") -> 0 | T2118: =COUNTIFS($A$4:$A$2103,"CAB6",T$4:T$2103,"8") -> 0 | U2118: =COUNTIFS($A$4:$A$2103,"CAB6",U$4:U$2103,"9") -> 0 | V2118: =COUNTIFS($A$4:$A$2103,"CAB6",V$4:V$2103,"9") -> 0 | W2118: =COUNTIFS($A$4:$A$2103,"CAB6",W$4:W$2103,"10") -> 0 | X2118: =COUNTIFS($A$4:$A$2103,"CAB6",X$4:X$2103,"10") -> 0 | Y2118: =COUNTIFS($A$4:$A$2103,"CAB6",Y$4:Y$2103,"11") -> 0 | Z2118: =COUNTIFS($A$4:$A$2103,"CAB6",Z$4:Z$2103,"11") -> 0 | AA2118: =COUNTIFS($A$4:$A$2103,"CAB6",AA$4:AA$2103,"12") -> 0 | AB2118: =COUNTIFS($A$4:$A$2103,"CAB6",AB$4:AB$2103,"12") -> 0 | AC2118: =COUNTIF($A$4:$A$2103, "CAB6") -> 0

Sheet Graph to 300
P5: Adding a Text Box:
P7: Select the chart where you want to add the text box.
P8: Go to the "Insert" tab on the Excel ribbon.
P9: Click on the "Text Box" option in the "Text" group.
P10: Click anywhere on the chart to create the text box, then type the desired text to name your condition
P11: You can resize and move the text box by clicking and dragging the edges or corners.
P14: Optional: Adding Phase Lines
P16: Using Drawing Shapes:
P18: Go to the "Insert" tab on the Excel ribbon.
P19: Click on "Shapes" and select the line shape.
P20: Click and drag on the chart to draw the phase line.
P21: To customize the phase line, right-click on it and choose "Format Shape."
... P32: Remain at each teaching step until 2 or 3 consecutive trials of the target response level have been completed with zero PB, all expected skills are occurring correctly, and engagement is consistent during SR.

Sheet Graph to 600
S5: Adding a Text Box:
S7: Select the chart where you want to add the text box.
S8: Go to the "Insert" tab on the Excel ribbon.
S9: Click on the "Text Box" option in the "Text" group.
S10: Click anywhere on the chart to create the text box, then type the desired text to name your condition
S11: You can resize and move the text box by clicking and dragging the edges or corners.
S14: Optional: Adding Phase Lines
S16: Using Drawing Shapes:
S18: Go to the "Insert" tab on the Excel ribbon.
S19: Click on "Shapes" and select the line shape.
S20: Click and drag on the chart to draw the phase line.
S21: To customize the phase line, right-click on it and choose "Format Shape."
... S32: Remain at each teaching step until 2 or 3 consecutive trials of the target response level have been completed with zero PB, all expected skills are occurring correctly, and engagement is consistent during SR.

Sheet Graph to 900
S5: Adding a Text Box:
S7: Select the chart where you want to add the text box.
S8: Go to the "Insert" tab on the Excel ribbon.
S9: Click on the "Text Box" option in the "Text" group.
S10: Click anywhere on the chart to create the text box, then type the desired text to name your condition
S11: You can resize and move the text box by clicking and dragging the edges or corners.
S14: Optional: Adding Phase Lines
S16: Using Drawing Shapes:
S18: Go to the "Insert" tab on the Excel ribbon.
S19: Click on "Shapes" and select the line shape.
S20: Click and drag on the chart to draw the phase line.
S21: To customize the phase line, right-click on it and choose "Format Shape."
... S32: Remain at each teaching step until 2 or 3 consecutive trials of the target response level have been completed with zero PB, all expected skills are occurring correctly, and engagement is consistent during SR.

Sheet Graph to 1200
S5: Adding a Text Box:
S7: Select the chart where you want to add the text box.
S8: Go to the "Insert" tab on the Excel ribbon.
S9: Click on the "Text Box" option in the "Text" group.
S10: Click anywhere on the chart to create the text box, then type the desired text to name your condition
S11: You can resize and move the text box by clicking and dragging the edges or corners.
S14: Optional: Adding Phase Lines
S16: Using Drawing Shapes:
S18: Go to the "Insert" tab on the Excel ribbon.
S19: Click on "Shapes" and select the line shape.
S20: Click and drag on the chart to draw the phase line.
S21: To customize the phase line, right-click on it and choose "Format Shape."
... S32: Remain at each teaching step until 2 or 3 consecutive trials of the target response level have been completed with zero PB, all expected skills are occurring correctly, and engagement is consistent during SR.

Sheet Graph to 1500
S5: Adding a Text Box:
S7: Select the chart where you want to add the text box.
S8: Go to the "Insert" tab on the Excel ribbon.
S9: Click on the "Text Box" option in the "Text" group.
S10: Click anywhere on the chart to create the text box, then type the desired text to name your condition
S11: You can resize and move the text box by clicking and dragging the edges or corners.
S14: Optional: Adding Phase Lines
S16: Using Drawing Shapes:
S18: Go to the "Insert" tab on the Excel ribbon.
S19: Click on "Shapes" and select the line shape.
S20: Click and drag on the chart to draw the phase line.
S21: To customize the phase line, right-click on it and choose "Format Shape."
... S32: Remain at each teaching step until 2 or 3 consecutive trials of the target response level have been completed with zero PB, all expected skills are occurring correctly, and engagement is consistent during SR.

Sheet Graph to 1800
S5: Adding a Text Box:
S7: Select the chart where you want to add the text box.
S8: Go to the "Insert" tab on the Excel ribbon.
S9: Click on the "Text Box" option in the "Text" group.
S10: Click anywhere on the chart to create the text box, then type the desired text to name your condition
S11: You can resize and move the text box by clicking and dragging the edges or corners.
S14: Optional: Adding Phase Lines
S16: Using Drawing Shapes:
S18: Go to the "Insert" tab on the Excel ribbon.
S19: Click on "Shapes" and select the line shape.
S20: Click and drag on the chart to draw the phase line.
S21: To customize the phase line, right-click on it and choose "Format Shape."
... S32: Remain at each teaching step until 2 or 3 consecutive trials of the target response level have been completed with zero PB, all expected skills are occurring correctly, and engagement is consistent during SR.

Sheet Graph to 2100
S5: Adding a Text Box:
S7: Select the chart where you want to add the text box.
S8: Go to the "Insert" tab on the Excel ribbon.
S9: Click on the "Text Box" option in the "Text" group.
S10: Click anywhere on the chart to create the text box, then type the desired text to name your condition
S11: You can resize and move the text box by clicking and dragging the edges or corners.
S14: Optional: Adding Phase Lines
S16: Using Drawing Shapes:
S18: Go to the "Insert" tab on the Excel ribbon.
S19: Click on "Shapes" and select the line shape.
S20: Click and drag on the chart to draw the phase line.
S21: To customize the phase line, right-click on it and choose "Format Shape."
... S32: Remain at each teaching step until 2 or 3 consecutive trials of the target response level have been completed with zero PB, all expected skills are occurring correctly, and engagement is consistent during SR.

Sheet Summary Table
A1: Conditions | B1: Responses (Percentage of independent trials per condition) | R1: Number of Trials
B2: R3 in SR | C2: R2 in SR | D2: R1 in SR | E2: HRE | F2: R3 | G2: R2 | H2: R1 | I2: sFCR | J2: cFCR | K2: TR | L2: CAB1 | M2: CAB2 | N2: CAB3 | O2: CAB4 | P2: CAB5 | Q2: CAB6
A3: FA | B3: =('Enter Data 1'!D2107/'Enter Data 1'!$AC2107)*100 -> #DIV/0! | C3: =('Enter Data 1'!E2107/'Enter Data 1'!$AC2107)*100 -> #DIV/0! | D3: =('Enter Data 1'!F2107/'Enter Data 1'!$AC2107)*100 -> #DIV/0! | E3: =('Enter Data 1'!G2107/'Enter Data 1'!$AC2107)*100 -> #DIV/0! | F3: =('Enter Data 1'!H2107/'Enter Data 1'!$AC2107)*100 -> #DIV/0! | G3: =('Enter Data 1'!I2107/'Enter Data 1'!$AC2107)*100 -> #DIV/0! | H3: =('Enter Data 1'!J2107/'Enter Data 1'!$AC2107)*100 -> #DIV/0! | I3: =('Enter Data 1'!L2107/'Enter Data 1'!$AC2107)*100 -> #DIV/0! | J3: =('Enter Data 1'!N2107/'Enter Data 1'!$AC2107)*100 -> #DIV/0! | K3: =('Enter Data 1'!P2107/'Enter Data 1'!$AC2107)*100 -> #DIV/0! | L3: =('Enter Data 1'!R2107/'Enter Data 1'!$AC2107)*100 -> #DIV/0! | M3: =('Enter Data 1'!T2107/'Enter Data 1'!$AC2107)*100 -> #DIV/0! | N3: =('Enter Data 1'!V2107/'Enter Data 1'!$AC2107)*100 -> #DIV/0! | O3: =('Enter Data 1'!X2107/'Enter Data 1'!$AC2107)*100 -> #DIV/0! | P3: =('Enter Data 1'!Z2107/'Enter Data 1'!$AC2107)*100 -> #DIV/0! | Q3: =('Enter Data 1'!AB2107/'Enter Data 1'!$AC2107)*100 -> #DIV/0! | R3: ='Enter Data 1'!AC2107 -> 0
A4: sFCR | B4: =('Enter Data 1'!D2108/'Enter Data 1'!$AC2108)*100 -> #DIV/0! | C4: =('Enter Data 1'!E2108/'Enter Data 1'!$AC2108)*100 -> #DIV/0! | D4: =('Enter Data 1'!F2108/'Enter Data 1'!$AC2108)*100 -> #DIV/0! | E4: =('Enter Data 1'!G2108/'Enter Data 1'!$AC2108)*100 -> #DIV/0! | F4: =('Enter Data 1'!H2108/'Enter Data 1'!$AC2108)*100 -> #DIV/0! | G4: =('Enter Data 1'!I2108/'Enter Data 1'!$AC2108)*100 -> #DIV/0! | H4: =('Enter Data 1'!J2108/'Enter Data 1'!$AC2108)*100 -> #DIV/0! | I4: =('Enter Data 1'!L2108/'Enter Data 1'!$AC2108)*100 -> #DIV/0! | J4: =('Enter Data 1'!N2108/'Enter Data 1'!$AC2108)*100 -> #DIV/0! | K4: =('Enter Data 1'!P2108/'Enter Data 1'!$AC2108)*100 -> #DIV/0! | L4: =('Enter Data 1'!R2108/'Enter Data 1'!$AC2108)*100 -> #DIV/0! | M4: =('Enter Data 1'!T2108/'Enter Data 1'!$AC2108)*100 -> #DIV/0! | N4: =('Enter Data 1'!V2108/'Enter Data 1'!$AC2108)*100 -> #DIV/0! | O4: =('Enter Data 1'!X2108/'Enter Data 1'!$AC2108)*100 -> #DIV/0! | P4: =('Enter Data 1'!Z2108/'Enter Data 1'!$AC2108)*100 -> #DIV/0! | Q4: =('Enter Data 1'!AB2108/'Enter Data 1'!$AC2108)*100 -> #DIV/0! | R4: ='Enter Data 1'!AC2108 -> 0
A5: cFCR | B5: =('Enter Data 1'!D2109/'Enter Data 1'!$AC2109)*100 -> #DIV/0! | C5: =('Enter Data 1'!E2109/'Enter Data 1'!$AC2109)*100 -> #DIV/0! | D5: =('Enter Data 1'!F2109/'Enter Data 1'!$AC2109)*100 -> #DIV/0! | E5: =('Enter Data 1'!G2109/'Enter Data 1'!$AC2109)*100 -> #DIV/0! | F5: =('Enter Data 1'!H2109/'Enter Data 1'!$AC2109)*100 -> #DIV/0! | G5: =('Enter Data 1'!I2109/'Enter Data 1'!$AC2109)*100 -> #DIV/0! | H5: =('Enter Data 1'!J2109/'Enter Data 1'!$AC2109)*100 -> #DIV/0! | I5: =('Enter Data 1'!L2109/'Enter Data 1'!$AC2109)*100 -> #DIV/0! | J5: =('Enter Data 1'!N2109/'Enter Data 1'!$AC2109)*100 -> #DIV/0! | K5: =('Enter Data 1'!P2109/'Enter Data 1'!$AC2109)*100 -> #DIV/0! | L5: =('Enter Data 1'!R2109/'Enter Data 1'!$AC2109)*100 -> #DIV/0! | M5: =('Enter Data 1'!T2109/'Enter Data 1'!$AC2109)*100 -> #DIV/0! | N5: =('Enter Data 1'!V2109/'Enter Data 1'!$AC2109)*100 -> #DIV/0! | O5: =('Enter Data 1'!X2109/'Enter Data 1'!$AC2109)*100 -> #DIV/0! | P5: =('Enter Data 1'!Z2109/'Enter Data 1'!$AC2109)*100 -> #DIV/0! | Q5: =('Enter Data 1'!AB2109/'Enter Data 1'!$AC2109)*100 -> #DIV/0! | R5: ='Enter Data 1'!AC2109 -> 0
A6: TR | B6: =('Enter Data 1'!D2110/'Enter Data 1'!$AC2110)*100 -> #DIV/0! | C6: =('Enter Data 1'!E2110/'Enter Data 1'!$AC2110)*100 -> #DIV/0! | D6: =('Enter Data 1'!F2110/'Enter Data 1'!$AC2110)*100 -> #DIV/0! | E6: =('Enter Data 1'!G2110/'Enter Data 1'!$AC2110)*100 -> #DIV/0! | F6: =('Enter Data 1'!H2110/'Enter Data 1'!$AC2110)*100 -> #DIV/0! | G6: =('Enter Data 1'!I2110/'Enter Data 1'!$AC2110)*100 -> #DIV/0! | H6: =('Enter Data 1'!J2110/'Enter Data 1'!$AC2110)*100 -> #DIV/0! | I6: =('Enter Data 1'!L2110/'Enter Data 1'!$AC2110)*100 -> #DIV/0! | J6: =('Enter Data 1'!N2110/'Enter Data 1'!$AC2110)*100 -> #DIV/0! | K6: =('Enter Data 1'!P2110/'Enter Data 1'!$AC2110)*100 -> #DIV/0! | L6: =('Enter Data 1'!R2110/'Enter Data 1'!$AC2110)*100 -> #DIV/0! | M6: =('Enter Data 1'!T2110/'Enter Data 1'!$AC2110)*100 -> #DIV/0! | N6: =('Enter Data 1'!V2110/'Enter Data 1'!$AC2110)*100 -> #DIV/0! | O6: =('Enter Data 1'!X2110/'Enter Data 1'!$AC2110)*100 -> #DIV/0! | P6: =('Enter Data 1'!Z2110/'Enter Data 1'!$AC2110)*100 -> #DIV/0! | Q6: =('Enter Data 1'!AB2110/'Enter Data 1'!$AC2110)*100 -> #DIV/0! | R6: ='Enter Data 1'!AC2110 -> 0
A7: CAB1 | B7: =('Enter Data 1'!D2111/'Enter Data 1'!$AC2111)*100 -> #DIV/0! | C7: =('Enter Data 1'!E2111/'Enter Data 1'!$AC2111)*100 -> #DIV/0! | D7: =('Enter Data 1'!F2111/'Enter Data 1'!$AC2111)*100 -> #DIV/0! | E7: =('Enter Data 1'!G2111/'Enter Data 1'!$AC2111)*100 -> #DIV/0! | F7: =('Enter Data 1'!H2111/'Enter Data 1'!$AC2111)*100 -> #DIV/0! | G7: =('Enter Data 1'!I2111/'Enter Data 1'!$AC2111)*100 -> #DIV/0! | H7: =('Enter Data 1'!J2111/'Enter Data 1'!$AC2111)*100 -> #DIV/0! | I7: =('Enter Data 1'!L2111/'Enter Data 1'!$AC2111)*100 -> #DIV/0! | J7: =('Enter Data 1'!N2111/'Enter Data 1'!$AC2111)*100 -> #DIV/0! | K7: =('Enter Data 1'!P2111/'Enter Data 1'!$AC2111)*100 -> #DIV/0! | L7: =('Enter Data 1'!R2111/'Enter Data 1'!$AC2111)*100 -> #DIV/0! | M7: =('Enter Data 1'!T2111/'Enter Data 1'!$AC2111)*100 -> #DIV/0! | N7: =('Enter Data 1'!V2111/'Enter Data 1'!$AC2111)*100 -> #DIV/0! | O7: =('Enter Data 1'!X2111/'Enter Data 1'!$AC2111)*100 -> #DIV/0! | P7: =('Enter Data 1'!Z2111/'Enter Data 1'!$AC2111)*100 -> #DIV/0! | Q7: =('Enter Data 1'!AB2111/'Enter Data 1'!$AC2111)*100 -> #DIV/0! | R7: ='Enter Data 1'!AC2111 -> 0
A8: CAB2 | B8: =('Enter Data 1'!D2112/'Enter Data 1'!$AC2112)*100 -> #DIV/0! | C8: =('Enter Data 1'!E2112/'Enter Data 1'!$AC2112)*100 -> #DIV/0! | D8: =('Enter Data 1'!F2112/'Enter Data 1'!$AC2112)*100 -> #DIV/0! | E8: =('Enter Data 1'!G2112/'Enter Data 1'!$AC2112)*100 -> #DIV/0! | F8: =('Enter Data 1'!H2112/'Enter Data 1'!$AC2112)*100 -> #DIV/0! | G8: =('Enter Data 1'!I2112/'Enter Data 1'!$AC2112)*100 -> #DIV/0! | H8: =('Enter Data 1'!J2112/'Enter Data 1'!$AC2112)*100 -> #DIV/0! | I8: =('Enter Data 1'!L2112/'Enter Data 1'!$AC2112)*100 -> #DIV/0! | J8: =('Enter Data 1'!N2112/'Enter Data 1'!$AC2112)*100 -> #DIV/0! | K8: =('Enter Data 1'!P2112/'Enter Data 1'!$AC2112)*100 -> #DIV/0! | L8: =('Enter Data 1'!R2112/'Enter Data 1'!$AC2112)*100 -> #DIV/0! | M8: =('Enter Data 1'!T2112/'Enter Data 1'!$AC2112)*100 -> #DIV/0! | N8: =('Enter Data 1'!V2112/'Enter Data 1'!$AC2112)*100 -> #DIV/0! | O8: =('Enter Data 1'!X2112/'Enter Data 1'!$AC2112)*100 -> #DIV/0! | P8: =('Enter Data 1'!Z2112/'Enter Data 1'!$AC2112)*100 -> #DIV/0! | Q8: =('Enter Data 1'!AB2112/'Enter Data 1'!$AC2112)*100 -> #DIV/0! | R8: ='Enter Data 1'!AC2112 -> 0
A9: CAB3 | B9: =('Enter Data 1'!D2113/'Enter Data 1'!$AC2113)*100 -> #DIV/0! | C9: =('Enter Data 1'!E2113/'Enter Data 1'!$AC2113)*100 -> #DIV/0! | D9: =('Enter Data 1'!F2113/'Enter Data 1'!$AC2113)*100 -> #DIV/0! | E9: =('Enter Data 1'!G2113/'Enter Data 1'!$AC2113)*100 -> #DIV/0! | F9: =('Enter Data 1'!H2113/'Enter Data 1'!$AC2113)*100 -> #DIV/0! | G9: =('Enter Data 1'!I2113/'Enter Data 1'!$AC2113)*100 -> #DIV/0! | H9: =('Enter Data 1'!J2113/'Enter Data 1'!$AC2113)*100 -> #DIV/0! | I9: =('Enter Data 1'!L2113/'Enter Data 1'!$AC2113)*100 -> #DIV/0! | J9: =('Enter Data 1'!N2113/'Enter Data 1'!$AC2113)*100 -> #DIV/0! | K9: =('Enter Data 1'!P2113/'Enter Data 1'!$AC2113)*100 -> #DIV/0! | L9: =('Enter Data 1'!R2113/'Enter Data 1'!$AC2113)*100 -> #DIV/0! | M9: =('Enter Data 1'!T2113/'Enter Data 1'!$AC2113)*100 -> #DIV/0! | N9: =('Enter Data 1'!V2113/'Enter Data 1'!$AC2113)*100 -> #DIV/0! | O9: =('Enter Data 1'!X2113/'Enter Data 1'!$AC2113)*100 -> #DIV/0! | P9: =('Enter Data 1'!Z2113/'Enter Data 1'!$AC2113)*100 -> #DIV/0! | Q9: =('Enter Data 1'!AB2113/'Enter Data 1'!$AC2113)*100 -> #DIV/0! | R9: ='Enter Data 1'!AC2113 -> 0
A10: CAB4 | B10: =('Enter Data 1'!D2114/'Enter Data 1'!$AC2114)*100 -> #DIV/0! | C10: =('Enter Data 1'!E2114/'Enter Data 1'!$AC2114)*100 -> #DIV/0! | D10: =('Enter Data 1'!F2114/'Enter Data 1'!$AC2114)*100 -> #DIV/0! | E10: =('Enter Data 1'!G2114/'Enter Data 1'!$AC2114)*100 -> #DIV/0! | F10: =('Enter Data 1'!H2114/'Enter Data 1'!$AC2114)*100 -> #DIV/0! | G10: =('Enter Data 1'!I2114/'Enter Data 1'!$AC2114)*100 -> #DIV/0! | H10: =('Enter Data 1'!J2114/'Enter Data 1'!$AC2114)*100 -> #DIV/0! | I10: =('Enter Data 1'!L2114/'Enter Data 1'!$AC2114)*100 -> #DIV/0! | J10: =('Enter Data 1'!N2114/'Enter Data 1'!$AC2114)*100 -> #DIV/0! | K10: =('Enter Data 1'!P2114/'Enter Data 1'!$AC2114)*100 -> #DIV/0! | L10: =('Enter Data 1'!R2114/'Enter Data 1'!$AC2114)*100 -> #DIV/0! | M10: =('Enter Data 1'!T2114/'Enter Data 1'!$AC2114)*100 -> #DIV/0! | N10: =('Enter Data 1'!V2114/'Enter Data 1'!$AC2114)*100 -> #DIV/0! | O10: =('Enter Data 1'!X2114/'Enter Data 1'!$AC2114)*100 -> #DIV/0! | P10: =('Enter Data 1'!Z2114/'Enter Data 1'!$AC2114)*100 -> #DIV/0! | Q10: =('Enter Data 1'!AB2114/'Enter Data 1'!$AC2114)*100 -> #DIV/0! | R10: ='Enter Data 1'!AC2114 -> 0
A11: CAB5 S | B11: =('Enter Data 1'!D2115/'Enter Data 1'!$AC2115)*100 -> #DIV/0! | C11: =('Enter Data 1'!E2115/'Enter Data 1'!$AC2115)*100 -> #DIV/0! | D11: =('Enter Data 1'!F2115/'Enter Data 1'!$AC2115)*100 -> #DIV/0! | E11: =('Enter Data 1'!G2115/'Enter Data 1'!$AC2115)*100 -> #DIV/0! | F11: =('Enter Data 1'!H2115/'Enter Data 1'!$AC2115)*100 -> #DIV/0! | G11: =('Enter Data 1'!I2115/'Enter Data 1'!$AC2115)*100 -> #DIV/0! | H11: =('Enter Data 1'!J2115/'Enter Data 1'!$AC2115)*100 -> #DIV/0! | I11: =('Enter Data 1'!L2115/'Enter Data 1'!$AC2115)*100 -> #DIV/0! | J11: =('Enter Data 1'!N2115/'Enter Data 1'!$AC2115)*100 -> #DIV/0! | K11: =('Enter Data 1'!P2115/'Enter Data 1'!$AC2115)*100 -> #DIV/0! | L11: =('Enter Data 1'!R2115/'Enter Data 1'!$AC2115)*100 -> #DIV/0! | M11: =('Enter Data 1'!T2115/'Enter Data 1'!$AC2115)*100 -> #DIV/0! | N11: =('Enter Data 1'!V2115/'Enter Data 1'!$AC2115)*100 -> #DIV/0! | O11: =('Enter Data 1'!X2115/'Enter Data 1'!$AC2115)*100 -> #DIV/0! | P11: =('Enter Data 1'!Z2115/'Enter Data 1'!$AC2115)*100 -> #DIV/0! | Q11: =('Enter Data 1'!AB2115/'Enter Data 1'!$AC2115)*100 -> #DIV/0! | R11: ='Enter Data 1'!AC2115 -> 0
A12: CAB5 M | B12: =('Enter Data 1'!D2116/'Enter Data 1'!$AC2116)*100 -> #DIV/0! | C12: =('Enter Data 1'!E2116/'Enter Data 1'!$AC2116)*100 -> #DIV/0! | D12: =('Enter Data 1'!F2116/'Enter Data 1'!$AC2116)*100 -> #DIV/0! | E12: =('Enter Data 1'!G2116/'Enter Data 1'!$AC2116)*100 -> #DIV/0! | F12: =('Enter Data 1'!H2116/'Enter Data 1'!$AC2116)*100 -> #DIV/0! | G12: =('Enter Data 1'!I2116/'Enter Data 1'!$AC2116)*100 -> #DIV/0! | H12: =('Enter Data 1'!J2116/'Enter Data 1'!$AC2116)*100 -> #DIV/0! | I12: =('Enter Data 1'!L2116/'Enter Data 1'!$AC2116)*100 -> #DIV/0! | J12: =('Enter Data 1'!N2116/'Enter Data 1'!$AC2116)*100 -> #DIV/0! | K12: =('Enter Data 1'!P2116/'Enter Data 1'!$AC2116)*100 -> #DIV/0! | L12: =('Enter Data 1'!R2116/'Enter Data 1'!$AC2116)*100 -> #DIV/0! | M12: =('Enter Data 1'!T2116/'Enter Data 1'!$AC2116)*100 -> #DIV/0! | N12: =('Enter Data 1'!V2116/'Enter Data 1'!$AC2116)*100 -> #DIV/0! | O12: =('Enter Data 1'!X2116/'Enter Data 1'!$AC2116)*100 -> #DIV/0! | P12: =('Enter Data 1'!Z2116/'Enter Data 1'!$AC2116)*100 -> #DIV/0! | Q12: =('Enter Data 1'!AB2116/'Enter Data 1'!$AC2116)*100 -> #DIV/0! | R12: ='Enter Data 1'!AC2116 -> 0
A13: CAB5 L | B13: =('Enter Data 1'!D2117/'Enter Data 1'!$AC2117)*100 -> #DIV/0! | C13: =('Enter Data 1'!E2117/'Enter Data 1'!$AC2117)*100 -> #DIV/0! | D13: =('Enter Data 1'!F2117/'Enter Data 1'!$AC2117)*100 -> #DIV/0! | E13: =('Enter Data 1'!G2117/'Enter Data 1'!$AC2117)*100 -> #DIV/0! | F13: =('Enter Data 1'!H2117/'Enter Data 1'!$AC2117)*100 -> #DIV/0! | G13: =('Enter Data 1'!I2117/'Enter Data 1'!$AC2117)*100 -> #DIV/0! | H13: =('Enter Data 1'!J2117/'Enter Data 1'!$AC2117)*100 -> #DIV/0! | I13: =('Enter Data 1'!L2117/'Enter Data 1'!$AC2117)*100 -> #DIV/0! | J13: =('Enter Data 1'!N2117/'Enter Data 1'!$AC2117)*100 -> #DIV/0! | K13: =('Enter Data 1'!P2117/'Enter Data 1'!$AC2117)*100 -> #DIV/0! | L13: =('Enter Data 1'!R2117/'Enter Data 1'!$AC2117)*100 -> #DIV/0! | M13: =('Enter Data 1'!T2117/'Enter Data 1'!$AC2117)*100 -> #DIV/0! | N13: =('Enter Data 1'!V2117/'Enter Data 1'!$AC2117)*100 -> #DIV/0! | O13: =('Enter Data 1'!X2117/'Enter Data 1'!$AC2117)*100 -> #DIV/0! | P13: =('Enter Data 1'!Z2117/'Enter Data 1'!$AC2117)*100 -> #DIV/0! | Q13: =('Enter Data 1'!AB2117/'Enter Data 1'!$AC2117)*100 -> #DIV/0! | R13: ='Enter Data 1'!AC2117 -> 0
A14: CAB6 | B14: =('Enter Data 1'!D2118/'Enter Data 1'!$AC2118)*100 -> #DIV/0! | C14: =('Enter Data 1'!E2118/'Enter Data 1'!$AC2118)*100 -> #DIV/0! | D14: =('Enter Data 1'!F2118/'Enter Data 1'!$AC2118)*100 -> #DIV/0! | E14: =('Enter Data 1'!G2118/'Enter Data 1'!$AC2118)*100 -> #DIV/0! | F14: =('Enter Data 1'!H2118/'Enter Data 1'!$AC2118)*100 -> #DIV/0! | G14: =('Enter Data 1'!I2118/'Enter Data 1'!$AC2118)*100 -> #DIV/0! | H14: =('Enter Data 1'!J2118/'Enter Data 1'!$AC2118)*100 -> #DIV/0! | I14: =('Enter Data 1'!L2118/'Enter Data 1'!$AC2118)*100 -> #DIV/0! | J14: =('Enter Data 1'!N2118/'Enter Data 1'!$AC2118)*100 -> #DIV/0! | K14: =('Enter Data 1'!P2118/'Enter Data 1'!$AC2118)*100 -> #DIV/0! | L14: =('Enter Data 1'!R2118/'Enter Data 1'!$AC2118)*100 -> #DIV/0! | M14: =('Enter Data 1'!T2118/'Enter Data 1'!$AC2118)*100 -> #DIV/0! | N14: =('Enter Data 1'!V2118/'Enter Data 1'!$AC2118)*100 -> #DIV/0! | O14: =('Enter Data 1'!X2118/'Enter Data 1'!$AC2118)*100 -> #DIV/0! | P14: =('Enter Data 1'!Z2118/'Enter Data 1'!$AC2118)*100 -> #DIV/0! | Q14: =('Enter Data 1'!AB2118/'Enter Data 1'!$AC2118)*100 -> #DIV/0! | R14: ='Enter Data 1'!AC2118 -> 0
N16: Total number of Trials | R16: =SUM(R3:R14) -> 0
